BEGIN:VCALENDAR
VERSION:2.0
PRODID:https://www.kufer.de/kuferweb / DE
METHOD:PUBLISH
CALSCALE:GREGORIAN
X-WR-TIMEZONE:Europe/Berlin
BEGIN:VTIMEZONE
TZID:Europe/Berlin
X-LIC-LOCATION:Europe/Berlin
BEGIN:DAYLIGHT
TZOFFSETFROM:+0100
TZOFFSETTO:+0200
TZNAME:CEST
DTSTART:19700329T020000
RRULE:FREQ=YEARLY;INTERVAL=1;BYDAY=-1SU;BYMONTH=3
END:DAYLIGHT
BEGIN:STANDARD
TZOFFSETFROM:+0200
TZOFFSETTO:+0100
TZNAME:CET
DTSTART:19701025T030000
RRULE:FREQ=YEARLY;INTERVAL=1;BYDAY=-1SU;BYMONTH=10
END:STANDARD
END:VTIMEZONE
BEGIN:VEVENT
DTSTAMP:20260425T194853
DTSTART;TZID=Europe/Berlin:20260902T183000
DTEND;TZID=Europe/Berlin:20260902T200000
UID:2624210-20260902T183000@VHSEMDEN
SUMMARY:Yin Yoga (2624210) 
LOCATION:vhs, Raum 407, Gesundheit, An der Berufsschule 3, 26721 Emden
END:VEVENT
BEGIN:VEVENT
DTSTAMP:20260425T194853
DTSTART;TZID=Europe/Berlin:20260909T183000
DTEND;TZID=Europe/Berlin:20260909T200000
UID:2624210-20260909T183000@VHSEMDEN
SUMMARY:Yin Yoga (2624210) 
LOCATION:vhs, Raum 407, Gesundheit, An der Berufsschule 3, 26721 Emden
END:VEVENT
BEGIN:VEVENT
DTSTAMP:20260425T194853
DTSTART;TZID=Europe/Berlin:20260916T183000
DTEND;TZID=Europe/Berlin:20260916T200000
UID:2624210-20260916T183000@VHSEMDEN
SUMMARY:Yin Yoga (2624210) 
LOCATION:vhs, Raum 407, Gesundheit, An der Berufsschule 3, 26721 Emden
END:VEVENT
BEGIN:VEVENT
DTSTAMP:20260425T194853
DTSTART;TZID=Europe/Berlin:20260923T183000
DTEND;TZID=Europe/Berlin:20260923T200000
UID:2624210-20260923T183000@VHSEMDEN
SUMMARY:Yin Yoga (2624210) 
LOCATION:vhs, Raum 407, Gesundheit, An der Berufsschule 3, 26721 Emden
END:VEVENT
BEGIN:VEVENT
DTSTAMP:20260425T194853
DTSTART;TZID=Europe/Berlin:20260930T183000
DTEND;TZID=Europe/Berlin:20260930T200000
UID:2624210-20260930T183000@VHSEMDEN
SUMMARY:Yin Yoga (2624210) 
LOCATION:vhs, Raum 407, Gesundheit, An der Berufsschule 3, 26721 Emden
END:VEVENT
BEGIN:VEVENT
DTSTAMP:20260425T194853
DTSTART;TZID=Europe/Berlin:20261007T183000
DTEND;TZID=Europe/Berlin:20261007T200000
UID:2624210-20261007T183000@VHSEMDEN
SUMMARY:Yin Yoga (2624210) 
LOCATION:vhs, Raum 407, Gesundheit, An der Berufsschule 3, 26721 Emden
END:VEVENT
BEGIN:VEVENT
DTSTAMP:20260425T194853
DTSTART;TZID=Europe/Berlin:20261014T183000
DTEND;TZID=Europe/Berlin:20261014T200000
UID:2624210-20261014T183000@VHSEMDEN
SUMMARY:Yin Yoga (2624210) 
LOCATION:vhs, Raum 407, Gesundheit, An der Berufsschule 3, 26721 Emden
END:VEVENT
END:VCALENDAR