BEGIN:VCALENDAR
VERSION:2.0
PRODID:https://www.kufer.de/kuferweb / DE
METHOD:PUBLISH
CALSCALE:GREGORIAN
X-WR-TIMEZONE:Europe/Berlin
BEGIN:VTIMEZONE
TZID:Europe/Berlin
X-LIC-LOCATION:Europe/Berlin
BEGIN:DAYLIGHT
TZOFFSETFROM:+0100
TZOFFSETTO:+0200
TZNAME:CEST
DTSTART:19700329T020000
RRULE:FREQ=YEARLY;INTERVAL=1;BYDAY=-1SU;BYMONTH=3
END:DAYLIGHT
BEGIN:STANDARD
TZOFFSETFROM:+0200
TZOFFSETTO:+0100
TZNAME:CET
DTSTART:19701025T030000
RRULE:FREQ=YEARLY;INTERVAL=1;BYDAY=-1SU;BYMONTH=10
END:STANDARD
END:VTIMEZONE
BEGIN:VEVENT
DTSTAMP:20260425T195226
DTSTART;TZID=Europe/Berlin:20260907T170000
DTEND;TZID=Europe/Berlin:20260907T181500
UID:2624207-20260907T170000@VHSEMDEN
SUMMARY:Hatha Yoga für Anfänger*innen (2624207) 
LOCATION:vhs, Raum 407, Gesundheit, An der Berufsschule 3, 26721 Emden
END:VEVENT
BEGIN:VEVENT
DTSTAMP:20260425T195226
DTSTART;TZID=Europe/Berlin:20260914T170000
DTEND;TZID=Europe/Berlin:20260914T181500
UID:2624207-20260914T170000@VHSEMDEN
SUMMARY:Hatha Yoga für Anfänger*innen (2624207) 
LOCATION:vhs, Raum 407, Gesundheit, An der Berufsschule 3, 26721 Emden
END:VEVENT
BEGIN:VEVENT
DTSTAMP:20260425T195226
DTSTART;TZID=Europe/Berlin:20260921T170000
DTEND;TZID=Europe/Berlin:20260921T181500
UID:2624207-20260921T170000@VHSEMDEN
SUMMARY:Hatha Yoga für Anfänger*innen (2624207) 
LOCATION:vhs, Raum 407, Gesundheit, An der Berufsschule 3, 26721 Emden
END:VEVENT
BEGIN:VEVENT
DTSTAMP:20260425T195226
DTSTART;TZID=Europe/Berlin:20260928T170000
DTEND;TZID=Europe/Berlin:20260928T181500
UID:2624207-20260928T170000@VHSEMDEN
SUMMARY:Hatha Yoga für Anfänger*innen (2624207) 
LOCATION:vhs, Raum 407, Gesundheit, An der Berufsschule 3, 26721 Emden
END:VEVENT
BEGIN:VEVENT
DTSTAMP:20260425T195226
DTSTART;TZID=Europe/Berlin:20261005T170000
DTEND;TZID=Europe/Berlin:20261005T181500
UID:2624207-20261005T170000@VHSEMDEN
SUMMARY:Hatha Yoga für Anfänger*innen (2624207) 
LOCATION:vhs, Raum 407, Gesundheit, An der Berufsschule 3, 26721 Emden
END:VEVENT
BEGIN:VEVENT
DTSTAMP:20260425T195226
DTSTART;TZID=Europe/Berlin:20261012T170000
DTEND;TZID=Europe/Berlin:20261012T181500
UID:2624207-20261012T170000@VHSEMDEN
SUMMARY:Hatha Yoga für Anfänger*innen (2624207) 
LOCATION:vhs, Raum 407, Gesundheit, An der Berufsschule 3, 26721 Emden
END:VEVENT
BEGIN:VEVENT
DTSTAMP:20260425T195226
DTSTART;TZID=Europe/Berlin:20261019T170000
DTEND;TZID=Europe/Berlin:20261019T181500
UID:2624207-20261019T170000@VHSEMDEN
SUMMARY:Hatha Yoga für Anfänger*innen (2624207) 
LOCATION:vhs, Raum 407, Gesundheit, An der Berufsschule 3, 26721 Emden
END:VEVENT
END:VCALENDAR