BEGIN:VCALENDAR
VERSION:2.0
PRODID:https://www.kufer.de/kuferweb / DE
METHOD:PUBLISH
CALSCALE:GREGORIAN
X-WR-TIMEZONE:Europe/Berlin
BEGIN:VTIMEZONE
TZID:Europe/Berlin
X-LIC-LOCATION:Europe/Berlin
BEGIN:DAYLIGHT
TZOFFSETFROM:+0100
TZOFFSETTO:+0200
TZNAME:CEST
DTSTART:19700329T020000
RRULE:FREQ=YEARLY;INTERVAL=1;BYDAY=-1SU;BYMONTH=3
END:DAYLIGHT
BEGIN:STANDARD
TZOFFSETFROM:+0200
TZOFFSETTO:+0100
TZNAME:CET
DTSTART:19701025T030000
RRULE:FREQ=YEARLY;INTERVAL=1;BYDAY=-1SU;BYMONTH=10
END:STANDARD
END:VTIMEZONE
BEGIN:VEVENT
DTSTAMP:20260425T132901
DTSTART;TZID=Europe/Berlin:20261116T090000
DTEND;TZID=Europe/Berlin:20261116T163000
UID:2622108-20261116T090000@VHSEMDEN
DESCRIPTION:Schlüssel Doz.
SUMMARY:Bildungsurlaub: Grundlagen Künstliche Intelligenz in Theorie und Praxis - Chatbots, Bild-KI und moderne Anwendungen verstehen und sinnvoll anwenden (2622108) 
LOCATION:vhs, Raum 208, Medienraum, An der Berufsschule 3, 26721 Emden
END:VEVENT
BEGIN:VEVENT
DTSTAMP:20260425T132901
DTSTART;TZID=Europe/Berlin:20261117T090000
DTEND;TZID=Europe/Berlin:20261117T163000
UID:2622108-20261117T090000@VHSEMDEN
SUMMARY:Bildungsurlaub: Grundlagen Künstliche Intelligenz in Theorie und Praxis - Chatbots, Bild-KI und moderne Anwendungen verstehen und sinnvoll anwenden (2622108) 
LOCATION:vhs, Raum 208, Medienraum, An der Berufsschule 3, 26721 Emden
END:VEVENT
BEGIN:VEVENT
DTSTAMP:20260425T132901
DTSTART;TZID=Europe/Berlin:20261118T090000
DTEND;TZID=Europe/Berlin:20261118T163000
UID:2622108-20261118T090000@VHSEMDEN
SUMMARY:Bildungsurlaub: Grundlagen Künstliche Intelligenz in Theorie und Praxis - Chatbots, Bild-KI und moderne Anwendungen verstehen und sinnvoll anwenden (2622108) 
LOCATION:vhs, Raum 208, Medienraum, An der Berufsschule 3, 26721 Emden
END:VEVENT
BEGIN:VEVENT
DTSTAMP:20260425T132901
DTSTART;TZID=Europe/Berlin:20261119T090000
DTEND;TZID=Europe/Berlin:20261119T163000
UID:2622108-20261119T090000@VHSEMDEN
SUMMARY:Bildungsurlaub: Grundlagen Künstliche Intelligenz in Theorie und Praxis - Chatbots, Bild-KI und moderne Anwendungen verstehen und sinnvoll anwenden (2622108) 
LOCATION:vhs, Raum 208, Medienraum, An der Berufsschule 3, 26721 Emden
END:VEVENT
END:VCALENDAR