BEGIN:VCALENDAR
VERSION:2.0
PRODID:https://www.kufer.de/kuferweb / DE
METHOD:PUBLISH
CALSCALE:GREGORIAN
X-WR-TIMEZONE:Europe/Berlin
BEGIN:VTIMEZONE
TZID:Europe/Berlin
X-LIC-LOCATION:Europe/Berlin
BEGIN:DAYLIGHT
TZOFFSETFROM:+0100
TZOFFSETTO:+0200
TZNAME:CEST
DTSTART:19700329T020000
RRULE:FREQ=YEARLY;INTERVAL=1;BYDAY=-1SU;BYMONTH=3
END:DAYLIGHT
BEGIN:STANDARD
TZOFFSETFROM:+0200
TZOFFSETTO:+0100
TZNAME:CET
DTSTART:19701025T030000
RRULE:FREQ=YEARLY;INTERVAL=1;BYDAY=-1SU;BYMONTH=10
END:STANDARD
END:VTIMEZONE
BEGIN:VEVENT
DTSTAMP:20260425T194058
DTSTART;TZID=Europe/Berlin:20260504T170000
DTEND;TZID=Europe/Berlin:20260504T181500
UID:2614213-20260504T170000@VHSEMDEN
SUMMARY:Hatha Yoga für Anfänger*innen (2614213) 
LOCATION:vhs, Raum 407, Gesundheit, An der Berufsschule 3, 26721 Emden
END:VEVENT
BEGIN:VEVENT
DTSTAMP:20260425T194058
DTSTART;TZID=Europe/Berlin:20260511T170000
DTEND;TZID=Europe/Berlin:20260511T181500
UID:2614213-20260511T170000@VHSEMDEN
SUMMARY:Hatha Yoga für Anfänger*innen (2614213) 
LOCATION:vhs, Raum 407, Gesundheit, An der Berufsschule 3, 26721 Emden
END:VEVENT
BEGIN:VEVENT
DTSTAMP:20260425T194058
DTSTART;TZID=Europe/Berlin:20260518T170000
DTEND;TZID=Europe/Berlin:20260518T181500
UID:2614213-20260518T170000@VHSEMDEN
SUMMARY:Hatha Yoga für Anfänger*innen (2614213) 
LOCATION:vhs, Raum 407, Gesundheit, An der Berufsschule 3, 26721 Emden
END:VEVENT
BEGIN:VEVENT
DTSTAMP:20260425T194058
DTSTART;TZID=Europe/Berlin:20260601T170000
DTEND;TZID=Europe/Berlin:20260601T181500
UID:2614213-20260601T170000@VHSEMDEN
SUMMARY:Hatha Yoga für Anfänger*innen (2614213) 
LOCATION:vhs, Raum 407, Gesundheit, An der Berufsschule 3, 26721 Emden
END:VEVENT
BEGIN:VEVENT
DTSTAMP:20260425T194058
DTSTART;TZID=Europe/Berlin:20260608T170000
DTEND;TZID=Europe/Berlin:20260608T181500
UID:2614213-20260608T170000@VHSEMDEN
SUMMARY:Hatha Yoga für Anfänger*innen (2614213) 
LOCATION:vhs, Raum 407, Gesundheit, An der Berufsschule 3, 26721 Emden
END:VEVENT
BEGIN:VEVENT
DTSTAMP:20260425T194058
DTSTART;TZID=Europe/Berlin:20260615T170000
DTEND;TZID=Europe/Berlin:20260615T181500
UID:2614213-20260615T170000@VHSEMDEN
SUMMARY:Hatha Yoga für Anfänger*innen (2614213) 
LOCATION:vhs, Raum 407, Gesundheit, An der Berufsschule 3, 26721 Emden
END:VEVENT
BEGIN:VEVENT
DTSTAMP:20260425T194058
DTSTART;TZID=Europe/Berlin:20260622T170000
DTEND;TZID=Europe/Berlin:20260622T181500
UID:2614213-20260622T170000@VHSEMDEN
SUMMARY:Hatha Yoga für Anfänger*innen (2614213) 
LOCATION:vhs, Raum 407, Gesundheit, An der Berufsschule 3, 26721 Emden
END:VEVENT
BEGIN:VEVENT
DTSTAMP:20260425T194058
DTSTART;TZID=Europe/Berlin:20260629T170000
DTEND;TZID=Europe/Berlin:20260629T181500
UID:2614213-20260629T170000@VHSEMDEN
SUMMARY:Hatha Yoga für Anfänger*innen (2614213) 
LOCATION:vhs, Raum 407, Gesundheit, An der Berufsschule 3, 26721 Emden
END:VEVENT
END:VCALENDAR